BEGIN:VCALENDAR
VERSION:2.0
PRODID:-//New York Small Business Development Centers - ECPv6.15.18//NONSGML v1.0//EN
CALSCALE:GREGORIAN
METHOD:PUBLISH
X-ORIGINAL-URL:https://nysbdc.org
X-WR-CALDESC:Events for New York Small Business Development Centers
REFRESH-INTERVAL;VALUE=DURATION:PT1H
X-Robots-Tag:noindex
X-PUBLISHED-TTL:PT1H
BEGIN:VTIMEZONE
TZID:America/New_York
BEGIN:DAYLIGHT
TZOFFSETFROM:-0500
TZOFFSETTO:-0400
TZNAME:EDT
DTSTART:20250309T070000
END:DAYLIGHT
BEGIN:STANDARD
TZOFFSETFROM:-0400
TZOFFSETTO:-0500
TZNAME:EST
DTSTART:20251102T060000
END:STANDARD
BEGIN:DAYLIGHT
TZOFFSETFROM:-0500
TZOFFSETTO:-0400
TZNAME:EDT
DTSTART:20260308T070000
END:DAYLIGHT
BEGIN:STANDARD
TZOFFSETFROM:-0400
TZOFFSETTO:-0500
TZNAME:EST
DTSTART:20261101T060000
END:STANDARD
BEGIN:DAYLIGHT
TZOFFSETFROM:-0500
TZOFFSETTO:-0400
TZNAME:EDT
DTSTART:20270314T070000
END:DAYLIGHT
BEGIN:STANDARD
TZOFFSETFROM:-0400
TZOFFSETTO:-0500
TZNAME:EST
DTSTART:20271107T060000
END:STANDARD
END:VTIMEZONE
BEGIN:VEVENT
DTSTART;VALUE=DATE:20260414
DTEND;VALUE=DATE:20260415
DTSTAMP:20260422T183219
CREATED:20260312T223457Z
LAST-MODIFIED:20260319T230437Z
UID:10000968-1776124800-1776211199@nysbdc.org
SUMMARY:Mastering Your Business Data with AI Notebooks
DESCRIPTION:https://nysbdc.ecenterdirect.com/events/1020018
URL:https://nysbdc.org/event/mastering-your-business-data-with-ai-notebooks/
ATTACH;FMTTYPE=image/jpeg:https://nysbdc.org/wp-content/uploads/2024/11/no_image.jpg
END:VEVENT
BEGIN:VEVENT
DTSTART;VALUE=DATE:20260415
DTEND;VALUE=DATE:20260416
DTSTAMP:20260422T183219
CREATED:20260225T211940Z
LAST-MODIFIED:20260319T230437Z
UID:10000949-1776211200-1776297599@nysbdc.org
SUMMARY:How AI Can Make Your Business More Productive
DESCRIPTION:https://nysbdc.ecenterdirect.com/events/1020000
URL:https://nysbdc.org/event/how-ai-can-make-your-business-more-productive/
ATTACH;FMTTYPE=image/jpeg:https://nysbdc.org/wp-content/uploads/2024/11/no_image.jpg
END:VEVENT
BEGIN:VEVENT
DTSTART;VALUE=DATE:20260416
DTEND;VALUE=DATE:20260417
DTSTAMP:20260422T183219
CREATED:20260116T201925Z
LAST-MODIFIED:20260319T230438Z
UID:10000889-1776297600-1776383999@nysbdc.org
SUMMARY:Government Contracting series III “Marketing to the Government Agencies”
DESCRIPTION:https://nysbdc.ecenterdirect.com/events/1019884
URL:https://nysbdc.org/event/government-contracting-series-iii-marketing-to-the-government-agencies/
ATTACH;FMTTYPE=image/jpeg:https://nysbdc.org/wp-content/uploads/2024/11/no_image.jpg
END:VEVENT
BEGIN:VEVENT
DTSTART;VALUE=DATE:20260416
DTEND;VALUE=DATE:20260417
DTSTAMP:20260422T183219
CREATED:20260319T230422Z
LAST-MODIFIED:20260319T230438Z
UID:10000972-1776297600-1776383999@nysbdc.org
SUMMARY:Protect What You Build IP Series with the USPTO: Intellectual Property Basics
DESCRIPTION:https://nysbdc.ecenterdirect.com/events/1020034
URL:https://nysbdc.org/event/protect-what-you-build-ip-series-with-the-uspto-intellectual-property-basics/
ATTACH;FMTTYPE=image/jpeg:https://nysbdc.org/wp-content/uploads/2024/11/no_image.jpg
END:VEVENT
BEGIN:VEVENT
DTSTART;VALUE=DATE:20260420
DTEND;VALUE=DATE:20260421
DTSTAMP:20260422T183219
CREATED:20260218T210429Z
LAST-MODIFIED:20260319T230438Z
UID:10000941-1776643200-1776729599@nysbdc.org
SUMMARY:Contracts & Risk Management for Small Business Owners
DESCRIPTION:https://nysbdc.ecenterdirect.com/events/1019993
URL:https://nysbdc.org/event/contracts-risk-management-for-small-business-owners-3/
ATTACH;FMTTYPE=image/jpeg:https://nysbdc.org/wp-content/uploads/2024/11/no_image.jpg
END:VEVENT
BEGIN:VEVENT
DTSTART;VALUE=DATE:20260422
DTEND;VALUE=DATE:20260423
DTSTAMP:20260422T183219
CREATED:20260210T204935Z
LAST-MODIFIED:20260319T230438Z
UID:10000924-1776816000-1776902399@nysbdc.org
SUMMARY:Supercharging Small Businesses with AI
DESCRIPTION:https://nysbdc.ecenterdirect.com/events/1019976
URL:https://nysbdc.org/event/supercharging-small-businesses-with-ai/
ATTACH;FMTTYPE=image/jpeg:https://nysbdc.org/wp-content/uploads/2024/11/no_image.jpg
END:VEVENT
BEGIN:VEVENT
DTSTART;VALUE=DATE:20260422
DTEND;VALUE=DATE:20260423
DTSTAMP:20260422T183219
CREATED:20260312T223502Z
LAST-MODIFIED:20260319T230438Z
UID:10000969-1776816000-1776902399@nysbdc.org
SUMMARY:Develop a 2026 AI Business Strategy
DESCRIPTION:https://nysbdc.ecenterdirect.com/events/1020019
URL:https://nysbdc.org/event/develop-a-2026-ai-business-strategy/
ATTACH;FMTTYPE=image/jpeg:https://nysbdc.org/wp-content/uploads/2024/11/no_image.jpg
END:VEVENT
BEGIN:VEVENT
DTSTART;VALUE=DATE:20260423
DTEND;VALUE=DATE:20260424
DTSTAMP:20260422T183219
CREATED:20260123T201934Z
LAST-MODIFIED:20260422T164850Z
UID:10000903-1776902400-1776988799@nysbdc.org
SUMMARY:Case Study
DESCRIPTION:https://nysbdc.ecenterdirect.com/events/1019949
URL:https://nysbdc.org/event/case-study/
ATTACH;FMTTYPE=image/jpeg:https://nysbdc.org/wp-content/uploads/2024/11/no_image.jpg
END:VEVENT
BEGIN:VEVENT
DTSTART;VALUE=DATE:20260423
DTEND;VALUE=DATE:20260424
DTSTAMP:20260422T183219
CREATED:20260123T201935Z
LAST-MODIFIED:20260422T164849Z
UID:10000904-1776902400-1776988799@nysbdc.org
SUMMARY:Government Contracting Series II "Certifications for Government Contracts "
DESCRIPTION:https://nysbdc.ecenterdirect.com/events/1019907
URL:https://nysbdc.org/event/government-contracting-series-ii-certifications-for-government-contracts-4/
ATTACH;FMTTYPE=image/jpeg:https://nysbdc.org/wp-content/uploads/2024/11/no_image.jpg
END:VEVENT
BEGIN:VEVENT
DTSTART;VALUE=DATE:20260423
DTEND;VALUE=DATE:20260424
DTSTAMP:20260422T183219
CREATED:20260422T143625Z
LAST-MODIFIED:20260422T164849Z
UID:10000979-1776902400-1776988799@nysbdc.org
SUMMARY:Post Promote Protect | Bronx SBDC
DESCRIPTION:https://nysbdc.ecenterdirect.com/events/1020059
URL:https://nysbdc.org/event/post-promote-protect-bronx-sbdc/
ATTACH;FMTTYPE=image/jpeg:https://nysbdc.org/wp-content/uploads/2024/11/no_image.jpg
END:VEVENT
BEGIN:VEVENT
DTSTART;VALUE=DATE:20260424
DTEND;VALUE=DATE:20260425
DTSTAMP:20260422T183219
CREATED:20260422T143625Z
LAST-MODIFIED:20260422T164850Z
UID:10000980-1776988800-1777075199@nysbdc.org
SUMMARY:Impulse su Marca con Google | Bronx SBDC
DESCRIPTION:https://nysbdc.ecenterdirect.com/events/1020060
URL:https://nysbdc.org/event/impulse-su-marca-con-google-bronx-sbdc/
ATTACH;FMTTYPE=image/jpeg:https://nysbdc.org/wp-content/uploads/2024/11/no_image.jpg
END:VEVENT
BEGIN:VEVENT
DTSTART;VALUE=DATE:20260427
DTEND;VALUE=DATE:20260428
DTSTAMP:20260422T183219
CREATED:20260305T220429Z
LAST-MODIFIED:20260422T164852Z
UID:10000961-1777248000-1777334399@nysbdc.org
SUMMARY:AI-Powered Finance: What Entrepreneurs Should Know Now
DESCRIPTION:https://nysbdc.ecenterdirect.com/events/1020013
URL:https://nysbdc.org/event/ai-powered-finance-what-entrepreneurs-should-know-now/
ATTACH;FMTTYPE=image/jpeg:https://nysbdc.org/wp-content/uploads/2024/11/no_image.jpg
END:VEVENT
BEGIN:VEVENT
DTSTART;VALUE=DATE:20260427
DTEND;VALUE=DATE:20260428
DTSTAMP:20260422T183219
CREATED:20260422T143625Z
LAST-MODIFIED:20260422T164851Z
UID:10000981-1777248000-1777334399@nysbdc.org
SUMMARY:Welcome to the SBDC Info Session
DESCRIPTION:https://nysbdc.ecenterdirect.com/events/1020046
URL:https://nysbdc.org/event/welcome-to-the-sbdc-info-session-63/
ATTACH;FMTTYPE=image/jpeg:https://nysbdc.org/wp-content/uploads/2024/11/no_image.jpg
END:VEVENT
BEGIN:VEVENT
DTSTART;VALUE=DATE:20260428
DTEND;VALUE=DATE:20260429
DTSTAMP:20260422T183219
CREATED:20260217T204930Z
LAST-MODIFIED:20260422T164852Z
UID:10000938-1777334400-1777420799@nysbdc.org
SUMMARY:Personal Credit: How It Impacts Your Ability to Launch & Grow a Small Business
DESCRIPTION:https://nysbdc.ecenterdirect.com/events/1019989
URL:https://nysbdc.org/event/personal-credit-how-it-impacts-your-ability-to-launch-grow-a-small-business/
ATTACH;FMTTYPE=image/jpeg:https://nysbdc.org/wp-content/uploads/2024/11/no_image.jpg
END:VEVENT
BEGIN:VEVENT
DTSTART;VALUE=DATE:20260429
DTEND;VALUE=DATE:20260430
DTSTAMP:20260422T183219
CREATED:20260312T223505Z
LAST-MODIFIED:20260422T164853Z
UID:10000970-1777420800-1777507199@nysbdc.org
SUMMARY:Recipe for Social Media Success
DESCRIPTION:https://nysbdc.ecenterdirect.com/events/1020020
URL:https://nysbdc.org/event/recipe-for-social-media-success/
ATTACH;FMTTYPE=image/jpeg:https://nysbdc.org/wp-content/uploads/2024/11/no_image.jpg
END:VEVENT
BEGIN:VEVENT
DTSTART;VALUE=DATE:20260429
DTEND;VALUE=DATE:20260430
DTSTAMP:20260422T183219
CREATED:20260422T143626Z
LAST-MODIFIED:20260422T164854Z
UID:10000982-1777420800-1777507199@nysbdc.org
SUMMARY:The Entrepreneur’s Toolbox: 22 Tech Tools to Streamline\, Automate\, and Scale Your Business
DESCRIPTION:https://nysbdc.ecenterdirect.com/events/1020038
URL:https://nysbdc.org/event/the-entrepreneurs-toolbox-22-tech-tools-to-streamline-automate-and-scale-your-business/
ATTACH;FMTTYPE=image/jpeg:https://nysbdc.org/wp-content/uploads/2024/11/no_image.jpg
END:VEVENT
BEGIN:VEVENT
DTSTART;VALUE=DATE:20260430
DTEND;VALUE=DATE:20260501
DTSTAMP:20260422T183219
CREATED:20260217T204931Z
LAST-MODIFIED:20260422T164902Z
UID:10000939-1777507200-1777593599@nysbdc.org
SUMMARY:NELP Remote Small Business Legal Clinic
DESCRIPTION:https://nysbdc.ecenterdirect.com/events/1019990
URL:https://nysbdc.org/event/nelp-remote-small-business-legal-clinic-19/
ATTACH;FMTTYPE=image/jpeg:https://nysbdc.org/wp-content/uploads/2024/11/no_image.jpg
END:VEVENT
BEGIN:VEVENT
DTSTART;VALUE=DATE:20260430
DTEND;VALUE=DATE:20260501
DTSTAMP:20260422T183219
CREATED:20260422T143631Z
LAST-MODIFIED:20260422T164854Z
UID:10000986-1777507200-1777593599@nysbdc.org
SUMMARY:Cybersecurity Basics for Small Businesses
DESCRIPTION:https://nysbdc.ecenterdirect.com/events/1020067
URL:https://nysbdc.org/event/cybersecurity-basics-for-small-businesses/
ATTACH;FMTTYPE=image/jpeg:https://nysbdc.org/wp-content/uploads/2024/11/no_image.jpg
END:VEVENT
BEGIN:VEVENT
DTSTART;VALUE=DATE:20260430
DTEND;VALUE=DATE:20260501
DTSTAMP:20260422T183219
CREATED:20260422T143632Z
LAST-MODIFIED:20260422T164902Z
UID:10000987-1777507200-1777593599@nysbdc.org
SUMMARY:Export Compliance Basics
DESCRIPTION:https://nysbdc.ecenterdirect.com/events/1020043
URL:https://nysbdc.org/event/export-compliance-basics/
ATTACH;FMTTYPE=image/jpeg:https://nysbdc.org/wp-content/uploads/2024/11/no_image.jpg
END:VEVENT
BEGIN:VEVENT
DTSTART;VALUE=DATE:20260505
DTEND;VALUE=DATE:20260506
DTSTAMP:20260422T183219
CREATED:20260205T204924Z
LAST-MODIFIED:20260422T164902Z
UID:10000917-1777939200-1778025599@nysbdc.org
SUMMARY:NELP Intellectual Property
DESCRIPTION:https://nysbdc.ecenterdirect.com/events/1019943
URL:https://nysbdc.org/event/nelp-intellectual-property/
ATTACH;FMTTYPE=image/jpeg:https://nysbdc.org/wp-content/uploads/2024/11/no_image.jpg
END:VEVENT
BEGIN:VEVENT
DTSTART;VALUE=DATE:20260505
DTEND;VALUE=DATE:20260512
DTSTAMP:20260422T183219
CREATED:20260205T204925Z
LAST-MODIFIED:20260422T164902Z
UID:10000918-1777939200-1778543999@nysbdc.org
SUMMARY:Fast Track to Small Business Workshop (In-Person & Online)
DESCRIPTION:https://nysbdc.ecenterdirect.com/events/1019935
URL:https://nysbdc.org/event/fast-track-to-small-business-workshop-in-person-online-11/
ATTACH;FMTTYPE=image/jpeg:https://nysbdc.org/wp-content/uploads/2024/11/no_image.jpg
END:VEVENT
BEGIN:VEVENT
DTSTART;VALUE=DATE:20260506
DTEND;VALUE=DATE:20260507
DTSTAMP:20260422T183219
CREATED:20260224T211929Z
LAST-MODIFIED:20260422T164902Z
UID:10000948-1778025600-1778111999@nysbdc.org
SUMMARY:How the NYC Dept. of Small Business Services Can Assist Your Business
DESCRIPTION:https://nysbdc.ecenterdirect.com/events/1019998
URL:https://nysbdc.org/event/how-the-nyc-dept-of-small-business-services-can-assist-your-business/
ATTACH;FMTTYPE=image/jpeg:https://nysbdc.org/wp-content/uploads/2024/11/no_image.jpg
END:VEVENT
BEGIN:VEVENT
DTSTART;VALUE=DATE:20260506
DTEND;VALUE=DATE:20260520
DTSTAMP:20260422T183219
CREATED:20260309T222013Z
LAST-MODIFIED:20260422T164924Z
UID:10000962-1778025600-1779235199@nysbdc.org
SUMMARY:QuickBooks Simplified: From Setup to Understanding Your Numbers (free 6-hour series)
DESCRIPTION:https://nysbdc.ecenterdirect.com/events/1020015
URL:https://nysbdc.org/event/quickbooks-simplified-from-setup-to-understanding-your-numbers-free-6-hour-series/
ATTACH;FMTTYPE=image/jpeg:https://nysbdc.org/wp-content/uploads/2024/11/no_image.jpg
END:VEVENT
BEGIN:VEVENT
DTSTART;VALUE=DATE:20260507
DTEND;VALUE=DATE:20260508
DTSTAMP:20260422T183219
CREATED:20260422T143636Z
LAST-MODIFIED:20260422T164902Z
UID:10000988-1778112000-1778198399@nysbdc.org
SUMMARY:Monthly Business Solutions Roundtable
DESCRIPTION:https://nysbdc.ecenterdirect.com/events/1020048
URL:https://nysbdc.org/event/monthly-business-solutions-roundtable-11/
ATTACH;FMTTYPE=image/jpeg:https://nysbdc.org/wp-content/uploads/2024/11/no_image.jpg
END:VEVENT
BEGIN:VEVENT
DTSTART;VALUE=DATE:20260511
DTEND;VALUE=DATE:20260513
DTSTAMP:20260422T183219
CREATED:20260422T143639Z
LAST-MODIFIED:20260422T143639Z
UID:10000991-1778457600-1778630399@nysbdc.org
SUMMARY:May In-Person Fast Track to Business
DESCRIPTION:https://nysbdc.ecenterdirect.com/events/1020044
URL:https://nysbdc.org/event/may-in-person-fast-track-to-business/
ATTACH;FMTTYPE=image/jpeg:https://nysbdc.org/wp-content/uploads/2024/11/no_image.jpg
END:VEVENT
BEGIN:VEVENT
DTSTART;VALUE=DATE:20260511
DTEND;VALUE=DATE:20260513
DTSTAMP:20260422T183219
CREATED:20260422T143639Z
LAST-MODIFIED:20260422T164913Z
UID:10000985-1778457600-1778630399@nysbdc.org
SUMMARY:May In-Person Fast Track to Business
DESCRIPTION:https://nysbdc.ecenterdirect.com/events/1020044
URL:https://nysbdc.org/event/may-in-person-fast-track-to-business-2/
ATTACH;FMTTYPE=image/jpeg:https://nysbdc.org/wp-content/uploads/2024/11/no_image.jpg
END:VEVENT
BEGIN:VEVENT
DTSTART;VALUE=DATE:20260512
DTEND;VALUE=DATE:20260513
DTSTAMP:20260422T183219
CREATED:20260422T143637Z
LAST-MODIFIED:20260422T164902Z
UID:10000989-1778544000-1778630399@nysbdc.org
SUMMARY:Welcome to the SBDC Info Session
DESCRIPTION:https://nysbdc.ecenterdirect.com/events/1020080
URL:https://nysbdc.org/event/welcome-to-the-sbdc-info-session-64/
ATTACH;FMTTYPE=image/jpeg:https://nysbdc.org/wp-content/uploads/2024/11/no_image.jpg
END:VEVENT
BEGIN:VEVENT
DTSTART;VALUE=DATE:20260512
DTEND;VALUE=DATE:20260513
DTSTAMP:20260422T183220
CREATED:20260422T143638Z
LAST-MODIFIED:20260422T164902Z
UID:10000990-1778544000-1778630399@nysbdc.org
SUMMARY:What's Changed In Word-of-Mouth Marketing and What Businesses Need to Do Now
DESCRIPTION:https://nysbdc.ecenterdirect.com/events/1020042
URL:https://nysbdc.org/event/whats-changed-in-word-of-mouth-marketing-and-what-businesses-need-to-do-now/
ATTACH;FMTTYPE=image/jpeg:https://nysbdc.org/wp-content/uploads/2024/11/no_image.jpg
END:VEVENT
BEGIN:VEVENT
DTSTART;VALUE=DATE:20260512
DTEND;VALUE=DATE:20260513
DTSTAMP:20260422T183220
CREATED:20260422T143639Z
LAST-MODIFIED:20260422T143639Z
UID:10000983-1778544000-1778630399@nysbdc.org
SUMMARY:Welcome to the SBDC Info Session
DESCRIPTION:https://nysbdc.ecenterdirect.com/events/1020080
URL:https://nysbdc.org/event/welcome-to-the-sbdc-info-session-65/
ATTACH;FMTTYPE=image/jpeg:https://nysbdc.org/wp-content/uploads/2024/11/no_image.jpg
END:VEVENT
BEGIN:VEVENT
DTSTART;VALUE=DATE:20260512
DTEND;VALUE=DATE:20260513
DTSTAMP:20260422T183220
CREATED:20260422T143639Z
LAST-MODIFIED:20260422T143639Z
UID:10000984-1778544000-1778630399@nysbdc.org
SUMMARY:What's Changed In Word-of-Mouth Marketing and What Businesses Need to Do Now
DESCRIPTION:https://nysbdc.ecenterdirect.com/events/1020042
URL:https://nysbdc.org/event/whats-changed-in-word-of-mouth-marketing-and-what-businesses-need-to-do-now-2/
ATTACH;FMTTYPE=image/jpeg:https://nysbdc.org/wp-content/uploads/2024/11/no_image.jpg
END:VEVENT
END:VCALENDAR