BEGIN:VCALENDAR
VERSION:2.0
PRODID:-//New York Small Business Development Centers - ECPv6.15.18//NONSGML v1.0//EN
CALSCALE:GREGORIAN
METHOD:PUBLISH
X-ORIGINAL-URL:https://nysbdc.org
X-WR-CALDESC:Events for New York Small Business Development Centers
REFRESH-INTERVAL;VALUE=DURATION:PT1H
X-Robots-Tag:noindex
X-PUBLISHED-TTL:PT1H
BEGIN:VTIMEZONE
TZID:America/New_York
BEGIN:DAYLIGHT
TZOFFSETFROM:-0500
TZOFFSETTO:-0400
TZNAME:EDT
DTSTART:20250309T070000
END:DAYLIGHT
BEGIN:STANDARD
TZOFFSETFROM:-0400
TZOFFSETTO:-0500
TZNAME:EST
DTSTART:20251102T060000
END:STANDARD
BEGIN:DAYLIGHT
TZOFFSETFROM:-0500
TZOFFSETTO:-0400
TZNAME:EDT
DTSTART:20260308T070000
END:DAYLIGHT
BEGIN:STANDARD
TZOFFSETFROM:-0400
TZOFFSETTO:-0500
TZNAME:EST
DTSTART:20261101T060000
END:STANDARD
BEGIN:DAYLIGHT
TZOFFSETFROM:-0500
TZOFFSETTO:-0400
TZNAME:EDT
DTSTART:20270314T070000
END:DAYLIGHT
BEGIN:STANDARD
TZOFFSETFROM:-0400
TZOFFSETTO:-0500
TZNAME:EST
DTSTART:20271107T060000
END:STANDARD
END:VTIMEZONE
BEGIN:VEVENT
DTSTART;VALUE=DATE:20260430
DTEND;VALUE=DATE:20260501
DTSTAMP:20260423T022327
CREATED:20260217T204931Z
LAST-MODIFIED:20260422T164902Z
UID:10000939-1777507200-1777593599@nysbdc.org
SUMMARY:NELP Remote Small Business Legal Clinic
DESCRIPTION:https://nysbdc.ecenterdirect.com/events/1019990
URL:https://nysbdc.org/event/nelp-remote-small-business-legal-clinic-19/
ATTACH;FMTTYPE=image/jpeg:https://nysbdc.org/wp-content/uploads/2024/11/no_image.jpg
END:VEVENT
BEGIN:VEVENT
DTSTART;VALUE=DATE:20260430
DTEND;VALUE=DATE:20260501
DTSTAMP:20260423T022327
CREATED:20260422T143631Z
LAST-MODIFIED:20260422T164854Z
UID:10000986-1777507200-1777593599@nysbdc.org
SUMMARY:Cybersecurity Basics for Small Businesses
DESCRIPTION:https://nysbdc.ecenterdirect.com/events/1020067
URL:https://nysbdc.org/event/cybersecurity-basics-for-small-businesses/
ATTACH;FMTTYPE=image/jpeg:https://nysbdc.org/wp-content/uploads/2024/11/no_image.jpg
END:VEVENT
BEGIN:VEVENT
DTSTART;VALUE=DATE:20260430
DTEND;VALUE=DATE:20260501
DTSTAMP:20260423T022327
CREATED:20260422T143632Z
LAST-MODIFIED:20260422T164902Z
UID:10000987-1777507200-1777593599@nysbdc.org
SUMMARY:Export Compliance Basics
DESCRIPTION:https://nysbdc.ecenterdirect.com/events/1020043
URL:https://nysbdc.org/event/export-compliance-basics/
ATTACH;FMTTYPE=image/jpeg:https://nysbdc.org/wp-content/uploads/2024/11/no_image.jpg
END:VEVENT
BEGIN:VEVENT
DTSTART;VALUE=DATE:20260505
DTEND;VALUE=DATE:20260506
DTSTAMP:20260423T022327
CREATED:20260205T204924Z
LAST-MODIFIED:20260422T164902Z
UID:10000917-1777939200-1778025599@nysbdc.org
SUMMARY:NELP Intellectual Property
DESCRIPTION:https://nysbdc.ecenterdirect.com/events/1019943
URL:https://nysbdc.org/event/nelp-intellectual-property/
ATTACH;FMTTYPE=image/jpeg:https://nysbdc.org/wp-content/uploads/2024/11/no_image.jpg
END:VEVENT
BEGIN:VEVENT
DTSTART;VALUE=DATE:20260505
DTEND;VALUE=DATE:20260512
DTSTAMP:20260423T022327
CREATED:20260205T204925Z
LAST-MODIFIED:20260422T164902Z
UID:10000918-1777939200-1778543999@nysbdc.org
SUMMARY:Fast Track to Small Business Workshop (In-Person & Online)
DESCRIPTION:https://nysbdc.ecenterdirect.com/events/1019935
URL:https://nysbdc.org/event/fast-track-to-small-business-workshop-in-person-online-11/
ATTACH;FMTTYPE=image/jpeg:https://nysbdc.org/wp-content/uploads/2024/11/no_image.jpg
END:VEVENT
BEGIN:VEVENT
DTSTART;VALUE=DATE:20260506
DTEND;VALUE=DATE:20260507
DTSTAMP:20260423T022327
CREATED:20260224T211929Z
LAST-MODIFIED:20260422T164902Z
UID:10000948-1778025600-1778111999@nysbdc.org
SUMMARY:How the NYC Dept. of Small Business Services Can Assist Your Business
DESCRIPTION:https://nysbdc.ecenterdirect.com/events/1019998
URL:https://nysbdc.org/event/how-the-nyc-dept-of-small-business-services-can-assist-your-business/
ATTACH;FMTTYPE=image/jpeg:https://nysbdc.org/wp-content/uploads/2024/11/no_image.jpg
END:VEVENT
BEGIN:VEVENT
DTSTART;VALUE=DATE:20260506
DTEND;VALUE=DATE:20260520
DTSTAMP:20260423T022327
CREATED:20260309T222013Z
LAST-MODIFIED:20260422T164924Z
UID:10000962-1778025600-1779235199@nysbdc.org
SUMMARY:QuickBooks Simplified: From Setup to Understanding Your Numbers (free 6-hour series)
DESCRIPTION:https://nysbdc.ecenterdirect.com/events/1020015
URL:https://nysbdc.org/event/quickbooks-simplified-from-setup-to-understanding-your-numbers-free-6-hour-series/
ATTACH;FMTTYPE=image/jpeg:https://nysbdc.org/wp-content/uploads/2024/11/no_image.jpg
END:VEVENT
BEGIN:VEVENT
DTSTART;VALUE=DATE:20260507
DTEND;VALUE=DATE:20260508
DTSTAMP:20260423T022327
CREATED:20260422T143636Z
LAST-MODIFIED:20260422T164902Z
UID:10000988-1778112000-1778198399@nysbdc.org
SUMMARY:Monthly Business Solutions Roundtable
DESCRIPTION:https://nysbdc.ecenterdirect.com/events/1020048
URL:https://nysbdc.org/event/monthly-business-solutions-roundtable-11/
ATTACH;FMTTYPE=image/jpeg:https://nysbdc.org/wp-content/uploads/2024/11/no_image.jpg
END:VEVENT
BEGIN:VEVENT
DTSTART;VALUE=DATE:20260511
DTEND;VALUE=DATE:20260513
DTSTAMP:20260423T022327
CREATED:20260422T143639Z
LAST-MODIFIED:20260422T143639Z
UID:10000991-1778457600-1778630399@nysbdc.org
SUMMARY:May In-Person Fast Track to Business
DESCRIPTION:https://nysbdc.ecenterdirect.com/events/1020044
URL:https://nysbdc.org/event/may-in-person-fast-track-to-business/
ATTACH;FMTTYPE=image/jpeg:https://nysbdc.org/wp-content/uploads/2024/11/no_image.jpg
END:VEVENT
BEGIN:VEVENT
DTSTART;VALUE=DATE:20260511
DTEND;VALUE=DATE:20260513
DTSTAMP:20260423T022327
CREATED:20260422T143639Z
LAST-MODIFIED:20260422T164913Z
UID:10000985-1778457600-1778630399@nysbdc.org
SUMMARY:May In-Person Fast Track to Business
DESCRIPTION:https://nysbdc.ecenterdirect.com/events/1020044
URL:https://nysbdc.org/event/may-in-person-fast-track-to-business-2/
ATTACH;FMTTYPE=image/jpeg:https://nysbdc.org/wp-content/uploads/2024/11/no_image.jpg
END:VEVENT
BEGIN:VEVENT
DTSTART;VALUE=DATE:20260512
DTEND;VALUE=DATE:20260513
DTSTAMP:20260423T022327
CREATED:20260422T143637Z
LAST-MODIFIED:20260422T164902Z
UID:10000989-1778544000-1778630399@nysbdc.org
SUMMARY:Welcome to the SBDC Info Session
DESCRIPTION:https://nysbdc.ecenterdirect.com/events/1020080
URL:https://nysbdc.org/event/welcome-to-the-sbdc-info-session-64/
ATTACH;FMTTYPE=image/jpeg:https://nysbdc.org/wp-content/uploads/2024/11/no_image.jpg
END:VEVENT
BEGIN:VEVENT
DTSTART;VALUE=DATE:20260512
DTEND;VALUE=DATE:20260513
DTSTAMP:20260423T022327
CREATED:20260422T143638Z
LAST-MODIFIED:20260422T164902Z
UID:10000990-1778544000-1778630399@nysbdc.org
SUMMARY:What's Changed In Word-of-Mouth Marketing and What Businesses Need to Do Now
DESCRIPTION:https://nysbdc.ecenterdirect.com/events/1020042
URL:https://nysbdc.org/event/whats-changed-in-word-of-mouth-marketing-and-what-businesses-need-to-do-now/
ATTACH;FMTTYPE=image/jpeg:https://nysbdc.org/wp-content/uploads/2024/11/no_image.jpg
END:VEVENT
BEGIN:VEVENT
DTSTART;VALUE=DATE:20260512
DTEND;VALUE=DATE:20260513
DTSTAMP:20260423T022327
CREATED:20260422T143639Z
LAST-MODIFIED:20260422T143639Z
UID:10000983-1778544000-1778630399@nysbdc.org
SUMMARY:Welcome to the SBDC Info Session
DESCRIPTION:https://nysbdc.ecenterdirect.com/events/1020080
URL:https://nysbdc.org/event/welcome-to-the-sbdc-info-session-65/
ATTACH;FMTTYPE=image/jpeg:https://nysbdc.org/wp-content/uploads/2024/11/no_image.jpg
END:VEVENT
BEGIN:VEVENT
DTSTART;VALUE=DATE:20260512
DTEND;VALUE=DATE:20260513
DTSTAMP:20260423T022327
CREATED:20260422T143639Z
LAST-MODIFIED:20260422T143639Z
UID:10000984-1778544000-1778630399@nysbdc.org
SUMMARY:What's Changed In Word-of-Mouth Marketing and What Businesses Need to Do Now
DESCRIPTION:https://nysbdc.ecenterdirect.com/events/1020042
URL:https://nysbdc.org/event/whats-changed-in-word-of-mouth-marketing-and-what-businesses-need-to-do-now-2/
ATTACH;FMTTYPE=image/jpeg:https://nysbdc.org/wp-content/uploads/2024/11/no_image.jpg
END:VEVENT
BEGIN:VEVENT
DTSTART;VALUE=DATE:20260513
DTEND;VALUE=DATE:20260514
DTSTAMP:20260423T022327
CREATED:20260213T204932Z
LAST-MODIFIED:20260422T164913Z
UID:10000934-1778630400-1778716799@nysbdc.org
SUMMARY:The Price is Right (In Person Event)
DESCRIPTION:https://nysbdc.ecenterdirect.com/events/1019873
URL:https://nysbdc.org/event/the-price-is-right/
ATTACH;FMTTYPE=image/jpeg:https://nysbdc.org/wp-content/uploads/2024/11/no_image.jpg
END:VEVENT
BEGIN:VEVENT
DTSTART;VALUE=DATE:20260513
DTEND;VALUE=DATE:20260514
DTSTAMP:20260423T022327
CREATED:20260213T204932Z
LAST-MODIFIED:20260422T164913Z
UID:10000935-1778630400-1778716799@nysbdc.org
SUMMARY:"Government Contracting series II “Certifications for Government Contracts”
DESCRIPTION:https://nysbdc.ecenterdirect.com/events/1019839
URL:https://nysbdc.org/event/government-contracting-series-ii-certifications-for-government-contracts-5/
ATTACH;FMTTYPE=image/jpeg:https://nysbdc.org/wp-content/uploads/2024/11/no_image.jpg
END:VEVENT
BEGIN:VEVENT
DTSTART;VALUE=DATE:20260513
DTEND;VALUE=DATE:20260514
DTSTAMP:20260423T022327
CREATED:20260319T230431Z
LAST-MODIFIED:20260422T164902Z
UID:10000973-1778630400-1778716799@nysbdc.org
SUMMARY:IN-PERSON: Building a New Business Website at the New York Public Library
DESCRIPTION:https://nysbdc.ecenterdirect.com/events/1020033
URL:https://nysbdc.org/event/in-person-building-a-new-business-website-at-the-new-york-public-library-3/
ATTACH;FMTTYPE=image/jpeg:https://nysbdc.org/wp-content/uploads/2024/11/no_image.jpg
END:VEVENT
BEGIN:VEVENT
DTSTART;VALUE=DATE:20260514
DTEND;VALUE=DATE:20260515
DTSTAMP:20260423T022327
CREATED:20260102T193427Z
LAST-MODIFIED:20260422T164913Z
UID:10000855-1778716800-1778803199@nysbdc.org
SUMMARY:Small Business Legal Clinic with NELP
DESCRIPTION:https://nysbdc.ecenterdirect.com/events/1019862
URL:https://nysbdc.org/event/small-business-legal-clinic-with-nelp-2/
ATTACH;FMTTYPE=image/jpeg:https://nysbdc.org/wp-content/uploads/2024/11/no_image.jpg
END:VEVENT
BEGIN:VEVENT
DTSTART;VALUE=DATE:20260514
DTEND;VALUE=DATE:20260515
DTSTAMP:20260423T022328
CREATED:20260319T230431Z
LAST-MODIFIED:20260422T164913Z
UID:10000974-1778716800-1778803199@nysbdc.org
SUMMARY:Protect What You Build IP Series with the USPTO: How to File a Federal Trademark Application
DESCRIPTION:https://nysbdc.ecenterdirect.com/events/1020035
URL:https://nysbdc.org/event/protect-what-you-build-ip-series-with-the-uspto-how-to-file-a-federal-trademark-application/
ATTACH;FMTTYPE=image/jpeg:https://nysbdc.org/wp-content/uploads/2024/11/no_image.jpg
END:VEVENT
BEGIN:VEVENT
DTSTART;VALUE=DATE:20260514
DTEND;VALUE=DATE:20260515
DTSTAMP:20260423T022328
CREATED:20260422T143646Z
LAST-MODIFIED:20260422T164913Z
UID:10000993-1778716800-1778803199@nysbdc.org
SUMMARY:Virtual Workshop - CMM Law Firm
DESCRIPTION:https://nysbdc.ecenterdirect.com/events/1020068
URL:https://nysbdc.org/event/virtual-workshop-cmm-law-firm/
ATTACH;FMTTYPE=image/jpeg:https://nysbdc.org/wp-content/uploads/2024/11/no_image.jpg
END:VEVENT
BEGIN:VEVENT
DTSTART;VALUE=DATE:20260519
DTEND;VALUE=DATE:20260520
DTSTAMP:20260423T022328
CREATED:20260319T230432Z
LAST-MODIFIED:20260422T164913Z
UID:10000975-1779148800-1779235199@nysbdc.org
SUMMARY:IN-PERSON: Small Business Website Workday at the Brooklyn Public Library
DESCRIPTION:https://nysbdc.ecenterdirect.com/events/1020037
URL:https://nysbdc.org/event/in-person-small-business-website-workday-at-the-brooklyn-public-library/
ATTACH;FMTTYPE=image/jpeg:https://nysbdc.org/wp-content/uploads/2024/11/no_image.jpg
END:VEVENT
BEGIN:VEVENT
DTSTART;VALUE=DATE:20260519
DTEND;VALUE=DATE:20260520
DTSTAMP:20260423T022328
CREATED:20260319T230434Z
LAST-MODIFIED:20260422T164913Z
UID:10000976-1779148800-1779235199@nysbdc.org
SUMMARY:Sustainable Finance for Small Businesses
DESCRIPTION:https://nysbdc.ecenterdirect.com/events/1020031
URL:https://nysbdc.org/event/sustainable-finance-for-small-businesses/
ATTACH;FMTTYPE=image/jpeg:https://nysbdc.org/wp-content/uploads/2024/11/no_image.jpg
END:VEVENT
BEGIN:VEVENT
DTSTART;VALUE=DATE:20260519
DTEND;VALUE=DATE:20260520
DTSTAMP:20260423T022328
CREATED:20260422T143644Z
LAST-MODIFIED:20260422T164913Z
UID:10000992-1779148800-1779235199@nysbdc.org
SUMMARY:Forecasting Trends in HR
DESCRIPTION:https://nysbdc.ecenterdirect.com/events/1020039
URL:https://nysbdc.org/event/forecasting-trends-in-hr/
ATTACH;FMTTYPE=image/jpeg:https://nysbdc.org/wp-content/uploads/2024/11/no_image.jpg
END:VEVENT
BEGIN:VEVENT
DTSTART;VALUE=DATE:20260520
DTEND;VALUE=DATE:20260521
DTSTAMP:20260423T022328
CREATED:20260422T143649Z
LAST-MODIFIED:20260422T164913Z
UID:10000994-1779235200-1779321599@nysbdc.org
SUMMARY:Get You Business Found On GOOGLE Search & Maps
DESCRIPTION:https://nysbdc.ecenterdirect.com/events/1020051
URL:https://nysbdc.org/event/get-you-business-found-on-google-search-maps/
ATTACH;FMTTYPE=image/jpeg:https://nysbdc.org/wp-content/uploads/2024/11/no_image.jpg
END:VEVENT
BEGIN:VEVENT
DTSTART;VALUE=DATE:20260521
DTEND;VALUE=DATE:20260522
DTSTAMP:20260423T022328
CREATED:20260221T210432Z
LAST-MODIFIED:20260422T164924Z
UID:10000943-1779321600-1779407999@nysbdc.org
SUMMARY:Grants for R&D: SBIR and STTR
DESCRIPTION:https://nysbdc.ecenterdirect.com/events/1019885
URL:https://nysbdc.org/event/grants-for-rd-sbir-and-sttr-5/
ATTACH;FMTTYPE=image/jpeg:https://nysbdc.org/wp-content/uploads/2024/11/no_image.jpg
END:VEVENT
BEGIN:VEVENT
DTSTART;VALUE=DATE:20260521
DTEND;VALUE=DATE:20260522
DTSTAMP:20260423T022328
CREATED:20260221T210433Z
LAST-MODIFIED:20260422T164924Z
UID:10000944-1779321600-1779407999@nysbdc.org
SUMMARY:Bookkeeping Basics for Small Business Owners
DESCRIPTION:https://nysbdc.ecenterdirect.com/events/1019967
URL:https://nysbdc.org/event/bookkeeping-basics-for-small-business-owners-3/
ATTACH;FMTTYPE=image/jpeg:https://nysbdc.org/wp-content/uploads/2024/11/no_image.jpg
END:VEVENT
BEGIN:VEVENT
DTSTART;VALUE=DATE:20260521
DTEND;VALUE=DATE:20260522
DTSTAMP:20260423T022328
CREATED:20260422T143650Z
LAST-MODIFIED:20260422T164924Z
UID:10000995-1779321600-1779407999@nysbdc.org
SUMMARY:Scroll to Sale: TikTok Marketing That Converts
DESCRIPTION:https://nysbdc.ecenterdirect.com/events/1020082
URL:https://nysbdc.org/event/scroll-to-sale-tiktok-marketing-that-converts/
ATTACH;FMTTYPE=image/jpeg:https://nysbdc.org/wp-content/uploads/2024/11/no_image.jpg
END:VEVENT
BEGIN:VEVENT
DTSTART;VALUE=DATE:20260527
DTEND;VALUE=DATE:20260528
DTSTAMP:20260423T022328
CREATED:20260319T230436Z
LAST-MODIFIED:20260422T164924Z
UID:10000977-1779840000-1779926399@nysbdc.org
SUMMARY:Sustainable Marketing for Small Businesses
DESCRIPTION:https://nysbdc.ecenterdirect.com/events/1020032
URL:https://nysbdc.org/event/sustainable-marketing-for-small-businesses/
ATTACH;FMTTYPE=image/jpeg:https://nysbdc.org/wp-content/uploads/2024/11/no_image.jpg
END:VEVENT
BEGIN:VEVENT
DTSTART;VALUE=DATE:20260528
DTEND;VALUE=DATE:20260529
DTSTAMP:20260423T022328
CREATED:20260228T214937Z
LAST-MODIFIED:20260422T164924Z
UID:10000951-1779926400-1780012799@nysbdc.org
SUMMARY:Government Contracting Series III "Marketing to the Government Agencies"
DESCRIPTION:https://nysbdc.ecenterdirect.com/events/1019908
URL:https://nysbdc.org/event/government-contracting-series-iii-marketing-to-the-government-agencies-2/
ATTACH;FMTTYPE=image/jpeg:https://nysbdc.org/wp-content/uploads/2024/11/no_image.jpg
END:VEVENT
BEGIN:VEVENT
DTSTART;VALUE=DATE:20260528
DTEND;VALUE=DATE:20260529
DTSTAMP:20260423T022328
CREATED:20260422T143653Z
LAST-MODIFIED:20260422T164924Z
UID:10000996-1779926400-1780012799@nysbdc.org
SUMMARY:Prevailing Wage Virtual Workshop
DESCRIPTION:https://nysbdc.ecenterdirect.com/events/1020047
URL:https://nysbdc.org/event/prevailing-wage-virtual-workshop/
ATTACH;FMTTYPE=image/jpeg:https://nysbdc.org/wp-content/uploads/2024/11/no_image.jpg
END:VEVENT
END:VCALENDAR